BEGIN:VCALENDAR
VERSION:2.0
PRODID:-//CPE des rires - ECPv4.5.12.3//NONSGML v1.0//EN
CALSCALE:GREGORIAN
METHOD:PUBLISH
X-WR-CALNAME:CPE des rires
X-ORIGINAL-URL:https://www.cpedesrires.com
X-WR-CALDESC:Events for CPE des rires
BEGIN:VEVENT
DTSTART;VALUE=DATE:20231009
DTEND;VALUE=DATE:20231009
DTSTAMP:20260423T054544
CREATED:20230808T190927Z
LAST-MODIFIED:20230808T190927Z
UID:6100-1696809600-1696895999@www.cpedesrires.com
SUMMARY:CPE FERMÉ / Action de Grâces
DESCRIPTION:
URL:https://www.cpedesrires.com/event/cpe-ferme-action-de-graces-2/
CATEGORIES:Mont-Tremblant,Saint-Faustin-Lac-Carré
END:VEVENT
END:VCALENDAR