BEGIN:VCALENDAR
VERSION:2.0
PRODID:-//CPE des rires - ECPv4.5.12.3//NONSGML v1.0//EN
CALSCALE:GREGORIAN
METHOD:PUBLISH
X-WR-CALNAME:CPE des rires
X-ORIGINAL-URL:https://www.cpedesrires.com
X-WR-CALDESC:Events for CPE des rires
BEGIN:VEVENT
DTSTART;VALUE=DATE:20231025
DTEND;VALUE=DATE:20231025
DTSTAMP:20260423T054319
CREATED:20230925T124403Z
LAST-MODIFIED:20230925T124403Z
UID:6294-1698192000-1698278399@www.cpedesrires.com
SUMMARY:Rencontre de parents
DESCRIPTION:
URL:https://www.cpedesrires.com/event/rencontre-de-parents/
CATEGORIES:Mont-Tremblant
END:VEVENT
END:VCALENDAR