BEGIN:VCALENDAR
VERSION:2.0
PRODID:-//CPE des rires - ECPv4.5.12.3//NONSGML v1.0//EN
CALSCALE:GREGORIAN
METHOD:PUBLISH
X-WR-CALNAME:CPE des rires
X-ORIGINAL-URL:https://www.cpedesrires.com
X-WR-CALDESC:Events for CPE des rires
BEGIN:VEVENT
DTSTART;TZID=America/New_York:20231219T080000
DTEND;TZID=America/New_York:20231219T170000
DTSTAMP:20260423T022317
CREATED:20231128T153211Z
LAST-MODIFIED:20231205T201808Z
UID:6409-1702972800-1703005200@www.cpedesrires.com
SUMMARY:Spectacle de noël!!
DESCRIPTION:  \nUn spectacle de Noël sera présenté pour les enfants du CPE. \nAssurez-vous que votre enfant soit arrivé pour 9h00 afin de ne rien manquer. \n
URL:https://www.cpedesrires.com/event/spectacle-de-noel-2/
CATEGORIES:Saint-Faustin-Lac-Carré
END:VEVENT
END:VCALENDAR