BEGIN:VCALENDAR
VERSION:2.0
PRODID:-//CPE des rires - ECPv4.5.12.3//NONSGML v1.0//EN
CALSCALE:GREGORIAN
METHOD:PUBLISH
X-WR-CALNAME:CPE des rires
X-ORIGINAL-URL:https://www.cpedesrires.com
X-WR-CALDESC:Events for CPE des rires
BEGIN:VEVENT
DTSTART;VALUE=DATE:20231227
DTEND;VALUE=DATE:20231227
DTSTAMP:20260423T022607
CREATED:20230808T191117Z
LAST-MODIFIED:20230808T191423Z
UID:6102-1703635200-1703721599@www.cpedesrires.com
SUMMARY:CPE FERMÉ / Veille de Noël
DESCRIPTION:
URL:https://www.cpedesrires.com/event/cpe-ferme-veille-de-noel/
CATEGORIES:Mont-Tremblant,Saint-Faustin-Lac-Carré
END:VEVENT
END:VCALENDAR