BEGIN:VCALENDAR
VERSION:2.0
PRODID:-//CPE des rires - ECPv4.5.12.3//NONSGML v1.0//EN
CALSCALE:GREGORIAN
METHOD:PUBLISH
X-WR-CALNAME:CPE des rires
X-ORIGINAL-URL:https://www.cpedesrires.com
X-WR-CALDESC:Events for CPE des rires
BEGIN:VEVENT
DTSTART;VALUE=DATE:20240219
DTEND;VALUE=DATE:20240223
DTSTAMP:20260422T233810
CREATED:20240126T195604Z
LAST-MODIFIED:20240126T195604Z
UID:6561-1708300800-1708732799@www.cpedesrires.com
SUMMARY:Olympiades d'hiver
DESCRIPTION:
URL:https://www.cpedesrires.com/event/olympiades-dhiver/
CATEGORIES:Mont-Tremblant
END:VEVENT
END:VCALENDAR