BEGIN:VCALENDAR
VERSION:2.0
PRODID:-//CPE des rires - ECPv4.5.12.3//NONSGML v1.0//EN
CALSCALE:GREGORIAN
METHOD:PUBLISH
X-WR-CALNAME:CPE des rires
X-ORIGINAL-URL:https://www.cpedesrires.com
X-WR-CALDESC:Events for CPE des rires
BEGIN:VEVENT
DTSTART;VALUE=DATE:20240606
DTEND;VALUE=DATE:20240606
DTSTAMP:20260422T170950
CREATED:20240531T194542Z
LAST-MODIFIED:20240531T194542Z
UID:6605-1717632000-1717718399@www.cpedesrires.com
SUMMARY:Campagne de financement les super recycleurs 8h00-10h30
DESCRIPTION:
URL:https://www.cpedesrires.com/event/campagne-de-financement-super-recycleurs-8h00-10h30/
CATEGORIES:Mont-Tremblant
END:VEVENT
END:VCALENDAR